BEGIN:VCALENDAR
VERSION:2.0
PRODID:-//UrDog - ECPv6.10.0//NONSGML v1.0//EN
CALSCALE:GREGORIAN
METHOD:PUBLISH
X-ORIGINAL-URL:https://urdog.de
X-WR-CALDESC:Veranstaltungen für UrDog
REFRESH-INTERVAL;VALUE=DURATION:PT1H
X-Robots-Tag:noindex
X-PUBLISHED-TTL:PT1H
BEGIN:VTIMEZONE
TZID:UTC
BEGIN:STANDARD
TZOFFSETFROM:+0000
TZOFFSETTO:+0000
TZNAME:UTC
DTSTART:20250101T000000
END:STANDARD
END:VTIMEZONE
BEGIN:VEVENT
DTSTART;TZID=UTC:20250712T130000
DTEND;TZID=UTC:20250712T150000
DTSTAMP:20260426T040304
CREATED:20250203T190925Z
LAST-MODIFIED:20250203T190925Z
UID:1199-1752325200-1752332400@urdog.de
SUMMARY:Trail Hunting
DESCRIPTION:Begebt euch gemeinsam in Wald und Stadt auf eine echte Jagd: Ihr entdeckt eine Spur und verfolgt sie bis zu verschiedenen Jagdgebieten\, an denen sich die Beute(l) versteckt. Ihr stöbert\, löst Aufgaben und fangt die Beute. Kreidezeichen und Geruchspunkte weisen euch den Weg. Jedes Gebiet ist dabei anders &#8211; mal lauft Ihr und mal schleicht Ihr euch an. \nDas erlebt ihr beim Trail Hunting \n\neine sinnvolle\, spannende Jagd\, bei der Euer Hund alles geben darf\nErfolg durch Zusammenarbeit und Orientierung am Mensch\nAdrenalin und richtig viel Spaß\n\nWann: samstags\, ganzjährig\, 13:00 bis 15:00 Uhr\nMit wem: Kristin\nKosten: 49 € pro Termin
URL:https://urdog.de/termin/trailhunting120725/
LOCATION:wechselnde Orte
CATEGORIES:Einzeln buchbar
END:VEVENT
BEGIN:VEVENT
DTSTART;TZID=UTC:20250719T130000
DTEND;TZID=UTC:20250719T150000
DTSTAMP:20260426T040304
CREATED:20250203T191003Z
LAST-MODIFIED:20250203T191003Z
UID:1201-1752930000-1752937200@urdog.de
SUMMARY:Trail Hunting
DESCRIPTION:Begebt euch gemeinsam in Wald und Stadt auf eine echte Jagd: Ihr entdeckt eine Spur und verfolgt sie bis zu verschiedenen Jagdgebieten\, an denen sich die Beute(l) versteckt. Ihr stöbert\, löst Aufgaben und fangt die Beute. Kreidezeichen und Geruchspunkte weisen euch den Weg. Jedes Gebiet ist dabei anders &#8211; mal lauft Ihr und mal schleicht Ihr euch an. \nDas erlebt ihr beim Trail Hunting \n\neine sinnvolle\, spannende Jagd\, bei der Euer Hund alles geben darf\nErfolg durch Zusammenarbeit und Orientierung am Mensch\nAdrenalin und richtig viel Spaß\n\nWann: samstags\, ganzjährig\, 13:00 bis 15:00 Uhr\nMit wem: Kristin\nKosten: 49 € pro Termin
URL:https://urdog.de/termin/trailhunting190725/
LOCATION:wechselnde Orte
CATEGORIES:Einzeln buchbar
END:VEVENT
END:VCALENDAR